BEGIN:VCALENDAR
VERSION:2.0
PRODID:-//Mix Café - ECPv6.11.0//NONSGML v1.0//EN
CALSCALE:GREGORIAN
METHOD:PUBLISH
X-WR-CALNAME:Mix Café
X-ORIGINAL-URL:https://mixcafe-tressignaux.bzh
X-WR-CALDESC:Évènements pour Mix Café
REFRESH-INTERVAL;VALUE=DURATION:PT1H
X-Robots-Tag:noindex
X-PUBLISHED-TTL:PT1H
BEGIN:VTIMEZONE
TZID:Europe/Paris
BEGIN:DAYLIGHT
TZOFFSETFROM:+0100
TZOFFSETTO:+0200
TZNAME:CEST
DTSTART:20260329T010000
END:DAYLIGHT
BEGIN:STANDARD
TZOFFSETFROM:+0200
TZOFFSETTO:+0100
TZNAME:CET
DTSTART:20261025T010000
END:STANDARD
END:VTIMEZONE
BEGIN:VEVENT
DTSTART;TZID=Europe/Paris:20260314T113000
DTEND;TZID=Europe/Paris:20260314T113000
DTSTAMP:20260421T182857
CREATED:20251219T215504Z
LAST-MODIFIED:20260118T192738Z
UID:620-1773487800-1773487800@mixcafe-tressignaux.bzh
SUMMARY:Vernissage « Les émotions ne connaissent pas les frontières »
DESCRIPTION:Exposition de Gaëlle Beyaert – du 7 mars au 5 avril. \nPeinture à l’huile sur des mondes oniriques et recueil de poésie « Poésie au jardin » accompagné d’aquarelles.
URL:https://mixcafe-tressignaux.bzh/index.php/event/vernissage-les-emotions-ne-connaissent-pas-les-frontieres/
CATEGORIES:Expositions
ATTACH;FMTTYPE=image/jpeg:https://mixcafe-tressignaux.bzh/wp-content/uploads/2025/12/expo-mars-gaelle-beyaert-e1766499665594.jpeg
END:VEVENT
END:VCALENDAR