BEGIN:VCALENDAR
VERSION:2.0
PRODID:-//Mix Café - ECPv6.11.0//NONSGML v1.0//EN
CALSCALE:GREGORIAN
METHOD:PUBLISH
X-WR-CALNAME:Mix Café
X-ORIGINAL-URL:https://mixcafe-tressignaux.bzh
X-WR-CALDESC:Évènements pour Mix Café
REFRESH-INTERVAL;VALUE=DURATION:PT1H
X-Robots-Tag:noindex
X-PUBLISHED-TTL:PT1H
BEGIN:VTIMEZONE
TZID:Europe/Paris
BEGIN:DAYLIGHT
TZOFFSETFROM:+0100
TZOFFSETTO:+0200
TZNAME:CEST
DTSTART:20250330T010000
END:DAYLIGHT
BEGIN:STANDARD
TZOFFSETFROM:+0200
TZOFFSETTO:+0100
TZNAME:CET
DTSTART:20251026T010000
END:STANDARD
END:VTIMEZONE
BEGIN:VEVENT
DTSTART;TZID=Europe/Paris:20251115T113000
DTEND;TZID=Europe/Paris:20251115T123000
DTSTAMP:20260421T153859
CREATED:20250825T170225Z
LAST-MODIFIED:20250825T201540Z
UID:511-1763206200-1763209800@mixcafe-tressignaux.bzh
SUMMARY:Vernissage « Nouveau destin »
DESCRIPTION:Catherine Guérin-Chérel commence à dessiner en 1992 et dès 1993 elle commence à peindre à l’huile et à l’instinct\, des toiles abstraites. \nExposition du samedi 15 novembre au 8 décembre.
URL:https://mixcafe-tressignaux.bzh/index.php/event/vernissage-2/
CATEGORIES:Expositions
ATTACH;FMTTYPE=image/jpeg:https://mixcafe-tressignaux.bzh/wp-content/uploads/2025/08/catherine-guerin-cherel.jpeg
END:VEVENT
END:VCALENDAR