BEGIN:VCALENDAR
VERSION:2.0
PRODID:-//Mix Café - ECPv6.11.0//NONSGML v1.0//EN
CALSCALE:GREGORIAN
METHOD:PUBLISH
X-ORIGINAL-URL:https://mixcafe-tressignaux.bzh
X-WR-CALDESC:Évènements pour Mix Café
REFRESH-INTERVAL;VALUE=DURATION:PT1H
X-Robots-Tag:noindex
X-PUBLISHED-TTL:PT1H
BEGIN:VTIMEZONE
TZID:Europe/Paris
BEGIN:DAYLIGHT
TZOFFSETFROM:+0100
TZOFFSETTO:+0200
TZNAME:CEST
DTSTART:20250330T010000
END:DAYLIGHT
BEGIN:STANDARD
TZOFFSETFROM:+0200
TZOFFSETTO:+0100
TZNAME:CET
DTSTART:20251026T010000
END:STANDARD
END:VTIMEZONE
BEGIN:VEVENT
DTSTART;TZID=Europe/Paris:20250104T113000
DTEND;TZID=Europe/Paris:20250104T113000
DTSTAMP:20260422T012304
CREATED:20241220T202715Z
LAST-MODIFIED:20241221T094859Z
UID:281-1735990200-1735990200@mixcafe-tressignaux.bzh
SUMMARY:Vernissage « Carnets de voyage »
DESCRIPTION:Exposition en place du 4 au 27 janvier – Thierry Hémard & Marilyne Batoudakis \n\n\n\nAprès des études en dessin industriel\, Thierry a peint depuis une trentaine d’années\, et depuis 2019 a été élève de plusieurs aquarellistes\, Alain Marc\, Violaine Abattucci\, Daniel Morice\, Didider Georges.. Il a intégré le collectif urban sketchers depuis 2020. \nAprès des études en photographie Marilyne a toujours été passionnée de voyages et continue de pratiquer la photographie. \nAprès une première vie dans l’industrie\, Thierry a décidé de vivre son rêve de globe croqueur a plein temps. Avec Marilyne ils sont partis de Pontrieux en juillet 2022 pour parcourir le monde à la voile\, découvrir d’autres peuples\, d’autres façons de vivre . Pendant leurs voyages\, Thierry croque\, toujours équipé d’un carnet et de ses pinceaux\, pendant que Marilyne aime à sortir son appareil\, pour saisir les paysages\, la vie\, les gens.
URL:https://mixcafe-tressignaux.bzh/index.php/event/vernissage-carnets-de-voyage/
CATEGORIES:Expositions
ATTACH;FMTTYPE=image/png:https://mixcafe-tressignaux.bzh/wp-content/uploads/2024/12/Carnets-de-voyage-1.png
END:VEVENT
END:VCALENDAR